BEGIN:VCALENDAR
VERSION:2.0
PRODID:-//Presencia y Poder de Dios - ECPv6.7.0//NONSGML v1.0//EN
CALSCALE:GREGORIAN
METHOD:PUBLISH
X-ORIGINAL-URL:https://presenciaypoderdedios.com
X-WR-CALDESC:Eventos para Presencia y Poder de Dios
REFRESH-INTERVAL;VALUE=DURATION:PT1H
X-Robots-Tag:noindex
X-PUBLISHED-TTL:PT1H
BEGIN:VTIMEZONE
TZID:UTC
BEGIN:STANDARD
TZOFFSETFROM:+0000
TZOFFSETTO:+0000
TZNAME:UTC
DTSTART:20250101T000000
END:STANDARD
END:VTIMEZONE
BEGIN:VEVENT
DTSTART;VALUE=DATE:20250315
DTEND;VALUE=DATE:20250317
DTSTAMP:20260422T232522
CREATED:20250324T172413Z
LAST-MODIFIED:20250324T172527Z
UID:800-1741996800-1742169599@presenciaypoderdedios.com
SUMMARY:Matrimonio en las Manos del Alfarero
DESCRIPTION:¿Estás buscando fortalecer tu matrimonio y crecer espiritualmente con tu pareja? ¡Tenemos una invitación muy especial para ti! \n CONFERENCISTAS EVANGELISTAS: *Invitados especiales desde *Guatemala \nNo pierdas esta oportunidad de permitir que Dios moldee tu matrimonio como el alfarero con su barro. Un espacio de restauración\, aprendizaje y amor\, donde las promesas de Dios serán la guía para tu relación.
URL:https://presenciaypoderdedios.com/event/matrimonio-en-las-manos-del-alfarero/
LOCATION:Presencia Y poder de Dios\, Calle 13 No 7A-60\,\, Neiva\, Huila\, Neiva\, 410001\, Colombia
ATTACH;FMTTYPE=image/jpeg:https://presenciaypoderdedios.com/wp-content/uploads/2025/03/mtrimonios-en-manos-de-Dios.jpg
ORGANIZER;CN="Presencia Y Poder de DIos":MAILTO:https://presenciaypoderdedios.com/
END:VEVENT
END:VCALENDAR