BEGIN:VCALENDAR
VERSION:2.0
PRODID:-//Presencia y Poder de Dios - ECPv6.7.0//NONSGML v1.0//EN
CALSCALE:GREGORIAN
METHOD:PUBLISH
X-ORIGINAL-URL:https://presenciaypoderdedios.com
X-WR-CALDESC:Eventos para Presencia y Poder de Dios
REFRESH-INTERVAL;VALUE=DURATION:PT1H
X-Robots-Tag:noindex
X-PUBLISHED-TTL:PT1H
BEGIN:VTIMEZONE
TZID:UTC
BEGIN:STANDARD
TZOFFSETFROM:+0000
TZOFFSETTO:+0000
TZNAME:UTC
DTSTART:20250101T000000
END:STANDARD
END:VTIMEZONE
BEGIN:VEVENT
DTSTART;TZID=UTC:20250328T190000
DTEND;TZID=UTC:20250328T233000
DTSTAMP:20260423T054303
CREATED:20250324T173723Z
LAST-MODIFIED:20250324T173723Z
UID:808-1743188400-1743204600@presenciaypoderdedios.com
SUMMARY:Guerra Espiritual
DESCRIPTION:Fecha: Viernes 28 de Febrero \nHora: 07:00 PM \nUbicación: Iglesia Presencia y Poder de Dios \nUna noche de avivamiento y poder donde experimentaremos la presencia de Dios. Únete a nosotros para un tiempo de: \n\nPalabra de liberación\nAlabanzas y adoración\nOración de intercesión\nMinisterio de sanidad y restauración\nFortalecimiento espiritual\n\nVen con un corazón dispuesto a recibir lo que Dios tiene preparado para ti. ¡No te lo pierdas! \n  \n 
URL:https://presenciaypoderdedios.com/event/guerra-espiritual/
LOCATION:Presencia Y poder de Dios\, Calle 13 No 7A-60\,\, Neiva\, Huila\, Neiva\, 410001\, Colombia
ATTACH;FMTTYPE=image/webp:https://presenciaypoderdedios.com/wp-content/uploads/2025/03/DALL·E-2025-03-24-12.36.16-A-realistic-digital-illustration-of-a-spiritual-warfare-event-in-a-church.webp
ORGANIZER;CN="Presencia Y Poder de DIos":MAILTO:https://presenciaypoderdedios.com/
END:VEVENT
END:VCALENDAR